BEGIN:VCALENDAR
VERSION:2.0
PRODID:-//Rose Therapy - ECPv6.15.20//NONSGML v1.0//EN
CALSCALE:GREGORIAN
METHOD:PUBLISH
X-ORIGINAL-URL:https://www.rose-therapy.co.uk
X-WR-CALDESC:Events for Rose Therapy
REFRESH-INTERVAL;VALUE=DURATION:PT1H
X-Robots-Tag:noindex
X-PUBLISHED-TTL:PT1H
BEGIN:VTIMEZONE
TZID:UTC
BEGIN:STANDARD
TZOFFSETFROM:+0000
TZOFFSETTO:+0000
TZNAME:UTC
DTSTART:20250101T000000
END:STANDARD
END:VTIMEZONE
BEGIN:VEVENT
DTSTART;TZID=UTC:20260401T090000
DTEND;TZID=UTC:20261002T170000
DTSTAMP:20260420T131402
CREATED:20260101T165232Z
LAST-MODIFIED:20260121T091510Z
UID:6108-1775034000-1790960400@www.rose-therapy.co.uk
SUMMARY:Post Graduate Diploma in Integrated Fascia Therapy\, UKRS Accredited
DESCRIPTION:Post Graduate Diploma in Integrated Fascia Therapy\nThis course starts on the 1st April with access to online lectures and further resources\, and incorporates a total of 8 in person tutorials in Oxfordshire with a team of 3 fascia specialists. \nNumbers are limited.  Please find more information HERE. \n 
URL:https://www.rose-therapy.co.uk/event/diploma-in-integrated-fascia-therapy/
ATTACH;FMTTYPE=image/jpeg:https://www.rose-therapy.co.uk/wp-content/uploads/2025/12/Postgraduate-Diploma-in-Integrated-Fascia-Therapy-April-2026-2.jpg
END:VEVENT
BEGIN:VEVENT
DTSTART;VALUE=DATE:20260807
DTEND;VALUE=DATE:20260809
DTSTAMP:20260420T131402
CREATED:20160328T182516Z
LAST-MODIFIED:20260323T102716Z
UID:521-1786060800-1786233599@www.rose-therapy.co.uk
SUMMARY:1st Degree Course in Reiki for People and Animals
DESCRIPTION:£190 \nThis 1st Degree course in Reiki for People and and Animals enables the student to use Reiki to help themselves\, their friends and family\, and their animals.  Students may then choose to take their training further to enable them to work as a human and animal practitioner. \nReiki is a manual energy therapy which stimulates the body’s own healing mechanisms. It can help bring the body back into balance through gentle techniques\, and release physical and emotional tension. This course is open to all. It includes a pre-practical animal home study section\, 2 days of practical tuition for application to people and animals\, and a requires completion of case studies. Students may bring their own dogs to the course\, and there are horses and dogs available to practice on at the venue. Course fee includes home study anatomy\, physiology and health section\, and course manuals. \nTo book\, please contact us. \nMORE DETAILS…
URL:https://www.rose-therapy.co.uk/event/1st-degree-reiki-for-people-and-animals-3/
LOCATION:Village Farm\, Emmington\, OX39 4AA\, United Kingdom
ATTACH;FMTTYPE=image/jpeg:https://www.rose-therapy.co.uk/wp-content/uploads/2016/03/course-banner-reiki-for-people-and-animals.jpg
END:VEVENT
BEGIN:VEVENT
DTSTART;TZID=UTC:20260808T093000
DTEND;TZID=UTC:20260808T160000
DTSTAMP:20260420T131402
CREATED:20160327T141533Z
LAST-MODIFIED:20260323T102806Z
UID:502-1786181400-1786204800@www.rose-therapy.co.uk
SUMMARY:Reiki for Animals CPD for Reiki Practitioners
DESCRIPTION:Cost for course £100 (includes home study section) \nThis course comprises of home-study and a full practical day in application of Reiki to animals. It is aimed at those who have previously completed human Reiki training at any level\, but would like to learn some hands on application techniques for animals. The course includes safe handling\, body language responses\, professional requirements and application methods. For human Reiki 2 practitioners wanting to do the Reiki Master and Advanced Applied Energy Work course for people and animals\, this is required. \nTo book\, please contact us. \nMORE DETAILS…
URL:https://www.rose-therapy.co.uk/event/reiki-for-animals-cpd-for-reiki-practitioners/
LOCATION:Village Farm\, Emmington\, OX39 4AA\, United Kingdom
CATEGORIES:CPD
ATTACH;FMTTYPE=image/jpeg:https://www.rose-therapy.co.uk/wp-content/uploads/2016/03/course-banner-reiki-for-animals-cpd-for-practitioners.jpg
END:VEVENT
BEGIN:VEVENT
DTSTART;TZID=UTC:20260919T093000
DTEND;TZID=UTC:20260919T160000
DTSTAMP:20260420T131402
CREATED:20230105T080258Z
LAST-MODIFIED:20260220T103524Z
UID:4605-1789810200-1789833600@www.rose-therapy.co.uk
SUMMARY:Canine Rehabilitation and Strengthening CPD\, Bath\, Somerset
DESCRIPTION:£105 \nThis canine rehabilitation and strengthening CPD course is run by Canine Physiotherapist\, Liz Tyrrell-Asprey. Liz has a busy canine practice in Somerset\, where she also provides training for those studying canine physiotherapy. \nLiz’s email address is liz@animalphyz.co.uk.  You can contact her directly for bookings. \nThis CPD course is open to those who are qualified in any canine manual therapy. This is a practical day\, with lots of hands on experience. \nCourse content: The definition of exercise\, benefits of rehabilitation exercise\, forelimb strengthening exercises\, and hind limb strengthening exercises. We cover lots of practical exercises with simple equipment.  Students may bring their own dogs on request. \nMORE DETAILS…
URL:https://www.rose-therapy.co.uk/event/canine-rehabilitation-and-strengthening-cpd/
LOCATION:Oakhill\, near Bath\, Somerset\, Bath\, BA3 5AN\, United Kingdom
ATTACH;FMTTYPE=image/jpeg:https://www.rose-therapy.co.uk/wp-content/uploads/2016/03/course-banner-canine-rehab-and-strengthening.jpg
ORGANIZER;CN="Jo Rose":MAILTO:joroseholistic@yahoo.co.uk
END:VEVENT
BEGIN:VEVENT
DTSTART;TZID=UTC:20260924T093000
DTEND;TZID=UTC:20260924T160000
DTSTAMP:20260420T131402
CREATED:20230511T141713Z
LAST-MODIFIED:20260409T160455Z
UID:4746-1790242200-1790265600@www.rose-therapy.co.uk
SUMMARY:The three equine diaphragms and their role in whole body function CPD: A holistic approach to treatment
DESCRIPTION:£130 for the one day\, or £220 for both the equine and canine CPDs. \nThis CPD day with Osteopath; Sara Farina\, explores the three diaphragms of the body (cervicothoracic\, respiratory and pelvic) and how their function influences each other within the integrated body as a whole. The diaphragms are in constant movement\, forming a pressure regulating mechanism for brain-body function. To practitioners\, they provide an access point to affect the nervous system’s regulatory mechanisms and influence optimal wellbeing of the animal. This course will draw on evidence-based biomechanical principles\, as well as osteopathic treatment theory to provide a holistic approach to the consideration\, assessment and treatment of the three diaphragms. \nPlease book here: CLICK ON THIS LINK \nDAY OUTLINEMorning:–         Introduction to the concept of the three diaphragms within the body–        Anatomy and pathophysiology of the cervicothoracic\, respiratory and pelvic diaphragms and related structures–        Anatomy of the vagus and related nerves and their relationship with the diaphragms–        Evidence informed approach to biomechanical release of these areas and consequent benefits–        Regional interdependence: how the function of each diaphragm influences the others and the whole body–        Considerations around movement biomechanics and how good function of the diaphragms effects this–        Theory of osteopathic techniques taught\, such as fascial release and mobilisation–        Outline of techniques which will be taught in afternoonAfternoon:–        Demonstration of techniques with time for students to practice and receive hands on tuition  –        Q&A and final considerations 
URL:https://www.rose-therapy.co.uk/event/the-three-equine-diaphragms-and-their-role-in-whole-body-function-cpd-a-holistic-approach-to-treatment/
LOCATION:Village Farm\, Emmington\, OX39 4AA\, United Kingdom
ATTACH;FMTTYPE=image/jpeg:https://www.rose-therapy.co.uk/wp-content/uploads/2023/05/Sara-Farina-equine-diaphragm-photo-scaled.jpeg
ORGANIZER;CN="Jo Rose":MAILTO:joroseholistic@yahoo.co.uk
END:VEVENT
BEGIN:VEVENT
DTSTART;TZID=UTC:20261009T093000
DTEND;TZID=UTC:20261009T160000
DTSTAMP:20260420T131402
CREATED:20231110T074724Z
LAST-MODIFIED:20260308T151922Z
UID:5004-1791538200-1791561600@www.rose-therapy.co.uk
SUMMARY:Body Alignment and Nervous System Regulation\, Incorporating Muscle Testing Applications for the Animal Therapist
DESCRIPTION:£95 \nOpen to any type of manual animal therapist. \nAims… \n\nTo understand the some of the physiology behind the use of muscle testing in Applied Kinesiology for assessment and guidance on therapeutic applications.\nTo assess for musculoskeletal\, visceral\, functional\, connection lines and emotional energy imbalances\, and prioritise focus.\nTo apply muscle testing as guidance of application of personal therapeutic tool kits\, and implement figure of 8 energy applications\, and nervous system holds to facilitate realignment and regulate the nervous system. \n\nMuscle testing is used by Applied Kinesiologists to assess their client for areas of imbalance\, and to find the best correction for the issues. An area that is out of balance (physical trauma\, pain\, misalignment\, neurological or biochemical imbalance) affects the energy of the area\, effectively short circuiting it.  When in contact with this disruption\, this impacts on the strength of a functional muscle test\, which can be applied as a self test or via another person\, thereby highlighting the area of imbalance. \nMuscle testing can also be used to find the best means of correcting the imbalance\, and can help to really pin point the crux of the problem\, with detail in direction\, depth and pressure. \nThis skill can be combined with conventional assessment techniques and observations of animal responses to demonstrate clear positive changes. \nWe will include equine and canine practice. \nWe will cover:   \nHow to muscle test\, and what it is telling us: \nOverview of functional testing and how this can be used to indicate changes in the electrical flow through the fascia and nerves. \nThe rules of testing accurately. \nAssessment: \nLocating of imbalances using body sections and anatomical scan lines through muscle testing\, plus standardising this against common assessment techniques. \nAdditional focus on assessing the vagus nerve and visceral imbalance. \nCorrections: \nFinding the depth and direction of the correction\, plus application\, from skin level through musculoskeletal to visceral. \nUsing two pointing corrections for improved fascial connections. \nApplying vagus nerve rebalancing corrections. \nAiding emotional release from old holding patterns. \nAiding physical realignment. \nReassessment
URL:https://www.rose-therapy.co.uk/event/muscle-testing-kinesiology-applications-for-the-equine-therapist/
LOCATION:Village Farm\, Emmington\, OX39 4AA\, United Kingdom
ATTACH;FMTTYPE=image/jpeg:https://www.rose-therapy.co.uk/wp-content/uploads/2016/03/Muscle-testing.jpg
END:VEVENT
BEGIN:VEVENT
DTSTART;TZID=UTC:20261010T090000
DTEND;TZID=UTC:20261011T160000
DTSTAMP:20260420T131402
CREATED:20240118T102232Z
LAST-MODIFIED:20260219T125920Z
UID:5097-1791622800-1791734400@www.rose-therapy.co.uk
SUMMARY:Canine Full Body Dissection with osteopath; Sara Farina\, and her team
DESCRIPTION:Cost:  £500\, discounted to £450 for IAAT and AMT members. \nDeposit payment: £250 \nAnimal osteopath; Sara Farina will be taking us through a detailed examination of canine structure and tissue functions; observing and discussing muscular and fascia action\, connections and dysfunction\, ligamentous attachments to support visceral function\, limb and cranial structure\, and biomechanical associations globally.  The extended team of experts will include animal physiotherapist; Becky Baylis\, plus an invited pathology specialist. \nDiscussion on therapeutic interventions and applications will also be discussed throughout. \nYou will be invited to get hands on if you wish to\, so that you can feel the tissue as well as observe. \nBooking link
URL:https://www.rose-therapy.co.uk/event/canine-dissection/
LOCATION:Village Farm\, Emmington\, OX39 4AA\, United Kingdom
ATTACH;FMTTYPE=image/jpeg:https://www.rose-therapy.co.uk/wp-content/uploads/2024/01/canine-dissection.jpg
END:VEVENT
END:VCALENDAR